BEGIN:VCALENDAR
VERSION:2.0
PRODID:-//IUOE Local 139 - ECPv6.15.18//NONSGML v1.0//EN
CALSCALE:GREGORIAN
METHOD:PUBLISH
X-WR-CALNAME:IUOE Local 139
X-ORIGINAL-URL:https://www.iuoe139.org
X-WR-CALDESC:Events for IUOE Local 139
REFRESH-INTERVAL;VALUE=DURATION:PT1H
X-Robots-Tag:noindex
X-PUBLISHED-TTL:PT1H
BEGIN:VTIMEZONE
TZID:UTC
BEGIN:STANDARD
TZOFFSETFROM:+0000
TZOFFSETTO:+0000
TZNAME:UTC
DTSTART:20210101T000000
END:STANDARD
END:VTIMEZONE
BEGIN:VEVENT
DTSTART;TZID=UTC:20220715T130000
DTEND;TZID=UTC:20220715T190000
DTSTAMP:20260425T163515
CREATED:20220711T173346Z
LAST-MODIFIED:20220711T173634Z
UID:10952-1657890000-1657911600@www.iuoe139.org
SUMMARY:Local 139 Retiree Fish Fry - Coloma
DESCRIPTION:SPECIAL EVENTS FOR RETIREE MEMBERS\nFriday Night ONLY July 15\, 2021 – Pre-registration 1:00 p.m.\n139 GEAR\nReceive 25% off at the 139 Gear Store with a ticket*!\n4:00 p.m. – 6:00 p.m.\n\nFISH FRY\nComplimentary fish fry ticket(s)* for retiree +1 guest.\n4:00 p.m. – 6:00 p.m.\n\nBINGO\nSpecial added one-hour round of bingo. Plus live music.\n6:00 p.m. – 7:00 p.m.\n\n* Tickets for the 139 Gear Store and fish fry available at pre-registration. Additional fish fry meals catered by the Moose Inn for purchase are $10\, hot dog meals also available for $5.\nRetirees are welcome to arrive in the preceding days to camp out at the Training Center. The sites include electrical hookups and access to showers.
URL:https://www.iuoe139.org/event/retiree-fish-fry/
LOCATION:Coloma Training Center\, W11584 State Hwy 21\, Coloma\, WI\, 54930\, United States
CATEGORIES:Member Events
ATTACH;FMTTYPE=image/jpeg:https://www.iuoe139.org/wp-content/uploads/2022/06/local139-40thAnnualPicnic-1200x628-1.jpg
ORGANIZER;CN="Local 139":MAILTO:http://www.iuoe139.org/
END:VEVENT
END:VCALENDAR