BEGIN:VCALENDAR
VERSION:2.0
PRODID:-//IUOE Local 139 - ECPv6.15.18//NONSGML v1.0//EN
CALSCALE:GREGORIAN
METHOD:PUBLISH
X-ORIGINAL-URL:https://www.iuoe139.org
X-WR-CALDESC:Events for IUOE Local 139
REFRESH-INTERVAL;VALUE=DURATION:PT1H
X-Robots-Tag:noindex
X-PUBLISHED-TTL:PT1H
BEGIN:VTIMEZONE
TZID:UTC
BEGIN:STANDARD
TZOFFSETFROM:+0000
TZOFFSETTO:+0000
TZNAME:UTC
DTSTART:20240101T000000
END:STANDARD
END:VTIMEZONE
BEGIN:VEVENT
DTSTART;TZID=UTC:20250303T190000
DTEND;TZID=UTC:20250303T200000
DTSTAMP:20260422T230815
CREATED:20250226T190501Z
LAST-MODIFIED:20250226T201029Z
UID:14482-1741028400-1741032000@www.iuoe139.org
SUMMARY:Allocation Meetings — Monday\, March 3
DESCRIPTION:All meetings begin at 7:00 p.m. on Monday\, March 3\, 2025\nThe regularly scheduled Madison meeting will begin immediately following the allocation meetings. \n\n\nNational Distribution\, Utilities & Maintenance Agreement\nThis notice of a special meeting has been sent to all members who have worked under the National Distribution\, Utilities & Maintenance Agreement at any time during the past year. Your vote to allocate the contract is important\, therefore you are encouraged to make every effort to attend this meeting. Please be prepared to show your dues card upon arrival. \nLOCATIONS\n\n\nDISTRICT A\nPewaukee Union Hall\nN27W23233 Roundy Drive\nPewaukee\, WI 53072 \n\n\nDISTRICT B\nMadison Union Hall\n4702 South Biltmore Lane\nMadison\, WI 53718 \n\n\n\n\nDISTRICT C\nAltoona Union Hall\n1003 S. Hillcrest Parkway\nAltoona\, WI 54720 \n\n\nDISTRICT D\nAppleton Union Hall\n5191 Abitz Road\nAppleton\, WI 54914 \n\n\n\n\nNational Pipeline Agreement\nThis notice of a special meeting has been sent to all members who have worked under the National Pipeline Agreement at any time during the past year. Your vote to allocate the contract is important\, therefore you are encouraged to make every effort to attend this meeting. Please be prepared to show your dues card upon arrival. \nLOCATIONS\n\n\nDISTRICT A\nPewaukee Union Hall\nN27W23233 Roundy Drive\nPewaukee\, WI 53072 \n\n\nDISTRICT B\nMadison Union Hall\n4702 South Biltmore Lane\nMadison\, WI 53718 \n\n\n\n\nDISTRICT C\nAltoona Union Hall\n1003 S. Hillcrest Parkway\nAltoona\, WI 54720 \n\n\nDISTRICT D\nAppleton Union Hall\n5191 Abitz Road\nAppleton\, WI 54914 \n\n\n\n\nArea II Building\, Heavy and Municipal/Utilities Construction Master Agreement\nThis notice of a special meeting has been sent to all members who have worked under the Area II Building\, Heavy and Municipal/Utilities Construction Master Agreement at any time during the past year. Your vote to allocate the contract is important\, therefore you are encouraged to make every effort to attend this meeting. Please be prepared to show your dues card upon arrival. \nLOCATIONS\n\n\nDISTRICT B\nMadison Union Hall\n4702 South Biltmore Lane\nMadison\, WI 53718 \n\n\nDISTRICT C\nAltoona Union Hall\n1003 S. Hillcrest Parkway\nAltoona\, WI 54720 \n\n\nDISTRICT D\nAppleton Union Hall\n5191 Abitz Road\nAppleton\, WI 54914 \n\n\nFraternally\,\nTerry McGowan\nIUOE General Vice President\, Local 139 President/Business Manager
URL:https://www.iuoe139.org/event/allocation-meetings-monday-march-3/
CATEGORIES:Allocation Meeting
END:VEVENT
BEGIN:VEVENT
DTSTART;TZID=UTC:20250304T190000
DTEND;TZID=UTC:20250304T200000
DTSTAMP:20260422T230815
CREATED:20250226T201215Z
LAST-MODIFIED:20250226T201215Z
UID:14492-1741114800-1741118400@www.iuoe139.org
SUMMARY:Allocation Meetings — Tuesday\, March 4
DESCRIPTION:All meetings begin at 7:00 p.m. on Tuesday\, March 4\, 2025\n \nThe regularly scheduled Appleton meeting will begin immediately following the allocation meetings. \n \n \n \n\n\n\n \n\n \nHeavy & Highway Construction Agreement\n \nThis notice of a special meeting has been sent to all members who have worked under the Heavy & Highway Construction Agreement at any time during the past year. Your vote to allocate the contract is important\, therefore you are encouraged to make every effort to attend this meeting. Please be prepared to show your dues card upon arrival. \n \nLOCATIONS\n \n\n\nDISTRICT A\nPewaukee Union Hall\nN27W23233 Roundy Drive\nPewaukee\, WI 53072 \n\n\n \n\nDISTRICT B\nMadison Union Hall\n4702 South Biltmore Lane\nMadison\, WI 53718 \n\n\n\n \n\n\nDISTRICT C\nAltoona Union Hall\n1003 S. Hillcrest Parkway\nAltoona\, WI 54720 \n\n\n \n\nDISTRICT D\nAppleton Union Hall\n5191 Abitz Road\nAppleton\, WI 54914 \n\n\n\n \n\n\n\n \n\n \nOut State Asphalt/Western Wisconsin Asphalt & Private/Commercial Agreements\n \nThis notice of a special meeting has been sent to all members who have worked under the Out State Asphalt/Western Wisconsin Asphalt & Private/Commercial Asphalt Agreements at any time during the past year. Your vote to allocate the contract is important\, therefore you are encouraged to make every effort to attend this meeting. Please be prepared to show your dues card upon arrival. \n \nLOCATIONS\n \n\n\nDISTRICT B\nMadison Union Hall\n4702 South Biltmore Lane\nMadison\, WI 53718 \n\n\n \n\nDISTRICT C\nAltoona Union Hall\n1003 S. Hillcrest Parkway\nAltoona\, WI 54720 \n\n\n\n \nDISTRICT D\nAppleton Union Hall\n5191 Abitz Road\nAppleton\, WI 54914 \n \n\n\n\n \n\n \nFraternally\,\nTerry McGowan
URL:https://www.iuoe139.org/event/allocation-meetings-tuesday-march-4/
CATEGORIES:Allocation Meeting
END:VEVENT
END:VCALENDAR