BEGIN:VCALENDAR
VERSION:2.0
PRODID:-//IUOE Local 139 - ECPv6.15.18//NONSGML v1.0//EN
CALSCALE:GREGORIAN
METHOD:PUBLISH
X-WR-CALNAME:IUOE Local 139
X-ORIGINAL-URL:https://www.iuoe139.org
X-WR-CALDESC:Events for IUOE Local 139
REFRESH-INTERVAL;VALUE=DURATION:PT1H
X-Robots-Tag:noindex
X-PUBLISHED-TTL:PT1H
BEGIN:VTIMEZONE
TZID:America/Chicago
BEGIN:DAYLIGHT
TZOFFSETFROM:-0600
TZOFFSETTO:-0500
TZNAME:CDT
DTSTART:20190310T080000
END:DAYLIGHT
BEGIN:STANDARD
TZOFFSETFROM:-0500
TZOFFSETTO:-0600
TZNAME:CST
DTSTART:20191103T070000
END:STANDARD
BEGIN:DAYLIGHT
TZOFFSETFROM:-0600
TZOFFSETTO:-0500
TZNAME:CDT
DTSTART:20200308T080000
END:DAYLIGHT
BEGIN:STANDARD
TZOFFSETFROM:-0500
TZOFFSETTO:-0600
TZNAME:CST
DTSTART:20201101T070000
END:STANDARD
BEGIN:DAYLIGHT
TZOFFSETFROM:-0600
TZOFFSETTO:-0500
TZNAME:CDT
DTSTART:20210314T080000
END:DAYLIGHT
BEGIN:STANDARD
TZOFFSETFROM:-0500
TZOFFSETTO:-0600
TZNAME:CST
DTSTART:20211107T070000
END:STANDARD
BEGIN:DAYLIGHT
TZOFFSETFROM:-0600
TZOFFSETTO:-0500
TZNAME:CDT
DTSTART:20220313T080000
END:DAYLIGHT
BEGIN:STANDARD
TZOFFSETFROM:-0500
TZOFFSETTO:-0600
TZNAME:CST
DTSTART:20221106T070000
END:STANDARD
END:VTIMEZONE
BEGIN:VTIMEZONE
TZID:America/Chicago
BEGIN:DAYLIGHT
TZOFFSETFROM:-0600
TZOFFSETTO:-0500
TZNAME:CDT
DTSTART:20170312T080000
END:DAYLIGHT
BEGIN:STANDARD
TZOFFSETFROM:-0500
TZOFFSETTO:-0600
TZNAME:CST
DTSTART:20171105T070000
END:STANDARD
BEGIN:DAYLIGHT
TZOFFSETFROM:-0600
TZOFFSETTO:-0500
TZNAME:CDT
DTSTART:20180311T080000
END:DAYLIGHT
BEGIN:STANDARD
TZOFFSETFROM:-0500
TZOFFSETTO:-0600
TZNAME:CST
DTSTART:20181104T070000
END:STANDARD
BEGIN:DAYLIGHT
TZOFFSETFROM:-0600
TZOFFSETTO:-0500
TZNAME:CDT
DTSTART:20190310T080000
END:DAYLIGHT
BEGIN:STANDARD
TZOFFSETFROM:-0500
TZOFFSETTO:-0600
TZNAME:CST
DTSTART:20191103T070000
END:STANDARD
BEGIN:DAYLIGHT
TZOFFSETFROM:-0600
TZOFFSETTO:-0500
TZNAME:CDT
DTSTART:20200308T080000
END:DAYLIGHT
BEGIN:STANDARD
TZOFFSETFROM:-0500
TZOFFSETTO:-0600
TZNAME:CST
DTSTART:20201101T070000
END:STANDARD
END:VTIMEZONE
BEGIN:VEVENT
DTSTART;TZID=America/Chicago:20211130T190000
DTEND;TZID=America/Chicago:20211130T190000
DTSTAMP:20260423T080115
CREATED:20210112T185407Z
LAST-MODIFIED:20211103T201302Z
UID:8170-1638298800-1638298800@www.iuoe139.org
SUMMARY:Appleton Christmas Meeting
DESCRIPTION:We look forward to seeing you this Holiday Season for good food\, good company\, and Camaraderie! The meeting begins at 7 p.m. Please\, Local 139 members only. \n– LOCATION –\nBest Western Premier Bridgewood Resort Hotel\, 1000 Cameron Way\, Neenah\, WI 54956 \n– HOLIDAY FOOD DRIVE –\nStock your local food pantry! In exchange for donating two non-perishable food items\, Local 139 members will receive ONE ADDITIONAL meeting raffle ticket at each of the upcoming Holiday Meetings. \nThis offer DOES NOT apply to participation in the Political Action Committee raffle. Limit one extra ticket per person.
URL:https://www.iuoe139.org/event/appleton-christmas-meeting-4/
LOCATION:Best Western Premier Bridgewood Resort Hotel\, 1000 Cameron Way\, Neenah\, WI\, 54956\, United States
CATEGORIES:Christmas Meeting
END:VEVENT
BEGIN:VEVENT
DTSTART;TZID=America/Chicago:20211129T190000
DTEND;TZID=America/Chicago:20211129T190000
DTSTAMP:20260423T080115
CREATED:20210112T185544Z
LAST-MODIFIED:20220104T145627Z
UID:8268-1638212400-1638212400@www.iuoe139.org
SUMMARY:Madison Christmas Meeting
DESCRIPTION:
URL:https://www.iuoe139.org/event/madison-christmas-meeting-4/
LOCATION:Madison Marriott West\, 1313 John Q Hammons Drive\, Middleton\, WI\, 53562\, United States
CATEGORIES:Christmas Meeting
END:VEVENT
BEGIN:VEVENT
DTSTART;TZID=America/Chicago:20211129T110000
DTEND;TZID=America/Chicago:20211129T110000
DTSTAMP:20260423T080115
CREATED:20210112T185545Z
LAST-MODIFIED:20211103T200031Z
UID:8269-1638183600-1638183600@www.iuoe139.org
SUMMARY:Canceled - Madison Retiree Christmas Meeting
DESCRIPTION:
URL:https://www.iuoe139.org/event/madison-retiree-christmas-meeting-4/
LOCATION:WI
CATEGORIES:Christmas Meeting,Retiree Meeting
END:VEVENT
BEGIN:VEVENT
DTSTART;TZID=America/Chicago:20201203T190000
DTEND;TZID=America/Chicago:20201203T190000
DTSTAMP:20260423T080115
CREATED:20200111T023148Z
LAST-MODIFIED:20201105T202759Z
UID:6638-1607022000-1607022000@www.iuoe139.org
SUMMARY:[CANCELED] Eau Claire Christmas Meeting
DESCRIPTION:We look forward to seeing you next year!
URL:https://www.iuoe139.org/event/eau-claire-christmas-meeting-4/
LOCATION:WI
CATEGORIES:Christmas Meeting
END:VEVENT
BEGIN:VEVENT
DTSTART;TZID=America/Chicago:20191219T190000
DTEND;TZID=America/Chicago:20191219T190000
DTSTAMP:20260423T080115
CREATED:20190117T223219Z
LAST-MODIFIED:20191030T180101Z
UID:4921-1576782000-1576782000@www.iuoe139.org
SUMMARY:La Crosse Christmas Meeting
DESCRIPTION:
URL:https://www.iuoe139.org/event/la-crosse-christmas-meeting/
LOCATION:La Crosse Center\, 300 Harborview Plaza\, La Crosse\, WI\, 54601\, United States
CATEGORIES:Christmas Meeting
END:VEVENT
BEGIN:VEVENT
DTSTART;TZID=America/Chicago:20191218T190000
DTEND;TZID=America/Chicago:20191218T190000
DTSTAMP:20260423T080115
CREATED:20190117T223206Z
LAST-MODIFIED:20191030T180038Z
UID:4856-1576695600-1576695600@www.iuoe139.org
SUMMARY:Boscobel Christmas Meeting
DESCRIPTION:
URL:https://www.iuoe139.org/event/boscobel-christmas-meeting/
LOCATION:Boscobel Bowling & Banquet LLC\, 16971 US-61\, Boscobel\, WI\, 53805\, United States
CATEGORIES:Christmas Meeting
END:VEVENT
BEGIN:VEVENT
DTSTART;TZID=America/Chicago:20191217T190000
DTEND;TZID=America/Chicago:20191217T190000
DTSTAMP:20260423T080115
CREATED:20190117T223219Z
LAST-MODIFIED:20191030T180001Z
UID:4920-1576609200-1576609200@www.iuoe139.org
SUMMARY:Janesville Christmas Meeting
DESCRIPTION:
URL:https://www.iuoe139.org/event/janesville-christmas-meeting/
LOCATION:Holiday Inn Express Janesville\, 3100 Wellington Place\, Janesville\, WI\, 53546\, United States
CATEGORIES:Christmas Meeting
END:VEVENT
BEGIN:VEVENT
DTSTART;TZID=America/Chicago:20191216T190000
DTEND;TZID=America/Chicago:20191216T190000
DTSTAMP:20260423T080115
CREATED:20190117T223236Z
LAST-MODIFIED:20191030T175935Z
UID:5003-1576522800-1576522800@www.iuoe139.org
SUMMARY:Sturtevant Christmas Meeting
DESCRIPTION:
URL:https://www.iuoe139.org/event/sturtevant-christmas-meeting/
LOCATION:Fountain Banquet Hall\, 8505 Durand Avenue\, Sturtevant\, WI\, 53177\, United States
CATEGORIES:Christmas Meeting
END:VEVENT
BEGIN:VEVENT
DTSTART;TZID=America/Chicago:20191213T190000
DTEND;TZID=America/Chicago:20191213T190000
DTSTAMP:20260423T080115
CREATED:20190117T223225Z
LAST-MODIFIED:20191030T175859Z
UID:4949-1576263600-1576263600@www.iuoe139.org
SUMMARY:Manitowoc Christmas Meeting
DESCRIPTION:
URL:https://www.iuoe139.org/event/manitowoc-christmas-meeting/
LOCATION:Knox’s Silver Valley Bar and Banquet Hall\, 1222 S Alverno Road\, Manitowoc\, WI\, 54220\, United States
CATEGORIES:Christmas Meeting
END:VEVENT
BEGIN:VEVENT
DTSTART;TZID=America/Chicago:20191212T190000
DTEND;TZID=America/Chicago:20191212T190000
DTSTAMP:20260423T080115
CREATED:20190117T223217Z
LAST-MODIFIED:20191030T210132Z
UID:4908-1576177200-1576177200@www.iuoe139.org
SUMMARY:Fond du Lac Christmas Meeting
DESCRIPTION:
URL:https://www.iuoe139.org/event/fond-du-lac-christmas-meeting/
LOCATION:Radisson Hotel and Conference Center\, 625 W Rolling Meadows Dr\, Fond du Lac\, WI\, 54937\, United States
CATEGORIES:Christmas Meeting
END:VEVENT
BEGIN:VEVENT
DTSTART;TZID=America/Chicago:20191211T190000
DTEND;TZID=America/Chicago:20191211T190000
DTSTAMP:20260423T080115
CREATED:20190117T223231Z
LAST-MODIFIED:20191030T173031Z
UID:4981-1576090800-1576090800@www.iuoe139.org
SUMMARY:Pewaukee Christmas Meeting
DESCRIPTION:HOLIDAY FOOD DRIVE \nLocal 139 Pewaukee Holiday Meeting donates to Dryhootch.\nDryhootch is a place where Veterans can gather informally in a coffee house; a safe\, comfortable\, drug-and-alcohol-free environment. \nIn exchange for donating two non-perishable food items*\, Dryhootch is requesting donations of coffee and creamer. Local 139 members will receive one additional meeting raffle ticket at each. \nLearn more about Dryhootch: https://www.dryhootch.org \n* This offer DOES NOT apply to participation in the Political Action Committee raffle. Limit one extra ticket per person.
URL:https://www.iuoe139.org/event/pewaukee-christmas-meeting/
LOCATION:Sheraton Milwaukee Brookfield Hotel\, 375 S Moorland Road\, Brookfield\, WI\, 53005\, United States
CATEGORIES:Christmas Meeting
END:VEVENT
BEGIN:VEVENT
DTSTART;TZID=America/Chicago:20191209T190000
DTEND;TZID=America/Chicago:20191209T190000
DTSTAMP:20260423T080115
CREATED:20190117T223245Z
LAST-MODIFIED:20191030T173006Z
UID:5048-1575918000-1575918000@www.iuoe139.org
SUMMARY:Wausau Christmas Meeting
DESCRIPTION:
URL:https://www.iuoe139.org/event/wausau-christmas-meeting/
LOCATION:Holiday Inn Hotel & Suites Wausau-Rothschild\, 1000 Imperial Avenue\, Rothschild\, WI\, 54474\, United States
CATEGORIES:Christmas Meeting
END:VEVENT
BEGIN:VEVENT
DTSTART;TZID=America/Chicago:20191208T190000
DTEND;TZID=America/Chicago:20191208T190000
DTSTAMP:20260423T080115
CREATED:20190117T223202Z
LAST-MODIFIED:20191030T172940Z
UID:4842-1575831600-1575831600@www.iuoe139.org
SUMMARY:Antigo Christmas Meeting
DESCRIPTION:
URL:https://www.iuoe139.org/event/antigo-christmas-meeting/
LOCATION:North Star Lanes\, 400 Prosser Place\, Antigo\, WI\, 54409\, United States
CATEGORIES:Christmas Meeting
END:VEVENT
BEGIN:VEVENT
DTSTART;TZID=America/Chicago:20191207T190000
DTEND;TZID=America/Chicago:20191207T190000
DTSTAMP:20260423T080115
CREATED:20190117T223219Z
LAST-MODIFIED:20191030T172430Z
UID:4919-1575745200-1575745200@www.iuoe139.org
SUMMARY:Iron River Christmas Meeting
DESCRIPTION:
URL:https://www.iuoe139.org/event/iron-river-christmas-meeting/
LOCATION:Iron River Community Center\, 8275 East Mill Street\, Iron River\, WI\, 54847\, United States
CATEGORIES:Christmas Meeting
END:VEVENT
BEGIN:VEVENT
DTSTART;TZID=America/Chicago:20191206T190000
DTEND;TZID=America/Chicago:20191206T190000
DTSTAMP:20260423T080115
CREATED:20190117T223235Z
LAST-MODIFIED:20191030T172343Z
UID:4998-1575658800-1575658800@www.iuoe139.org
SUMMARY:Rice Lake Christmas Meeting
DESCRIPTION:
URL:https://www.iuoe139.org/event/rice-lake-christmas-meeting/
LOCATION:Moose Lodge 402\, 40 E Newton Street\, Rice Lake\, WI\, 54868\, United States
CATEGORIES:Christmas Meeting
END:VEVENT
BEGIN:VEVENT
DTSTART;TZID=America/Chicago:20191205T190000
DTEND;TZID=America/Chicago:20191205T190000
DTSTAMP:20260423T080115
CREATED:20190117T223213Z
LAST-MODIFIED:20191030T172316Z
UID:4891-1575572400-1575572400@www.iuoe139.org
SUMMARY:Eau Claire Christmas Meeting
DESCRIPTION:
URL:https://www.iuoe139.org/event/eau-claire-christmas-meeting-3/
LOCATION:Holiday Inn Eau Claire South\, 4751 Owen Ayres Court\, Eau Claire\, WI\, 54701\, United States
CATEGORIES:Christmas Meeting
END:VEVENT
BEGIN:VEVENT
DTSTART;TZID=America/Chicago:20191204T190000
DTEND;TZID=America/Chicago:20191204T190000
DTSTAMP:20260423T080115
CREATED:20190117T223218Z
LAST-MODIFIED:20191030T172227Z
UID:4914-1575486000-1575486000@www.iuoe139.org
SUMMARY:Green Bay Christmas Meeting
DESCRIPTION:
URL:https://www.iuoe139.org/event/green-bay-christmas-meeting/
LOCATION:Rock Garden\, 1951 Bond Street\, Green Bay\, WI\, 54303\, United States
CATEGORIES:Christmas Meeting
END:VEVENT
BEGIN:VEVENT
DTSTART;TZID=America/Chicago:20191203T190000
DTEND;TZID=America/Chicago:20191203T190000
DTSTAMP:20260423T080115
CREATED:20190117T223204Z
LAST-MODIFIED:20191030T172028Z
UID:4843-1575399600-1575399600@www.iuoe139.org
SUMMARY:Appleton Christmas Meeting
DESCRIPTION:
URL:https://www.iuoe139.org/event/appleton-christmas-meeting/
LOCATION:Best Western Premier Bridgewood Resort Hotel\, 1000 Cameron Way\, Neenah\, WI\, 54956\, United States
CATEGORIES:Christmas Meeting
END:VEVENT
BEGIN:VEVENT
DTSTART;TZID=America/Chicago:20191202T190000
DTEND;TZID=America/Chicago:20191202T190000
DTSTAMP:20260423T080115
CREATED:20190117T223222Z
LAST-MODIFIED:20191030T180123Z
UID:4937-1575313200-1575313200@www.iuoe139.org
SUMMARY:Madison Christmas Meeting
DESCRIPTION:
URL:https://www.iuoe139.org/event/madison-christmas-meeting/
LOCATION:Madison Marriott West\, 1313 John Q Hammons Drive\, Middleton\, WI\, 53562\, United States
CATEGORIES:Christmas Meeting
END:VEVENT
BEGIN:VEVENT
DTSTART;TZID=America/Chicago:20181213T190000
DTEND;TZID=America/Chicago:20181213T190000
DTSTAMP:20260423T080115
CREATED:20171031T153506Z
LAST-MODIFIED:20171031T153903Z
UID:2881-1544727600-1544727600@www.iuoe139.org
SUMMARY:La Crosse Retiree Christmas Meeting
DESCRIPTION:
URL:https://www.iuoe139.org/event/la-crosse-retiree-christmas-meeting/
LOCATION:All Star Lanes\, 4735 Mormon Coulee Road\, La Crosse\, WI\, 54601\, United States
CATEGORIES:Christmas Meeting,Retiree Groups,Retiree Meeting
END:VEVENT
BEGIN:VEVENT
DTSTART;TZID=America/Chicago:20181213T190000
DTEND;TZID=America/Chicago:20181213T190000
DTSTAMP:20260423T080115
CREATED:20171031T153505Z
LAST-MODIFIED:20171031T154015Z
UID:2880-1544727600-1544727600@www.iuoe139.org
SUMMARY:La Crosse Christmas Meeting
DESCRIPTION:
URL:https://www.iuoe139.org/event/la-crosse-christmas-meeting-2/
LOCATION:La Crosse Center\, 300 Harborview Plaza\, La Crosse\, WI\, 54601\, United States
CATEGORIES:Christmas Meeting,Member Events
END:VEVENT
BEGIN:VEVENT
DTSTART;TZID=America/Chicago:20181212T190000
DTEND;TZID=America/Chicago:20181212T190000
DTSTAMP:20260423T080115
CREATED:20171031T153439Z
LAST-MODIFIED:20171031T154124Z
UID:2814-1544641200-1544641200@www.iuoe139.org
SUMMARY:Boscobel Christmas Meeting
DESCRIPTION:
URL:https://www.iuoe139.org/event/boscobel-christmas-meeting-3/
LOCATION:Boscobel Bowling & Banquet LLC\, 16971 US-61\, Boscobel\, WI\, 53805\, United States
CATEGORIES:Christmas Meeting,Member Events
END:VEVENT
BEGIN:VEVENT
DTSTART;TZID=America/Chicago:20181211T190000
DTEND;TZID=America/Chicago:20181211T190000
DTSTAMP:20260423T080115
CREATED:20171031T153505Z
LAST-MODIFIED:20171031T154207Z
UID:2879-1544554800-1544554800@www.iuoe139.org
SUMMARY:Janesville Christmas Meeting
DESCRIPTION:
URL:https://www.iuoe139.org/event/janesville-christmas-meeting-3/
LOCATION:Holiday Inn Express Janesville\, 3100 Wellington Place\, Janesville\, WI\, 53546\, United States
CATEGORIES:Christmas Meeting,Member Events
END:VEVENT
BEGIN:VEVENT
DTSTART;TZID=America/Chicago:20181210T190000
DTEND;TZID=America/Chicago:20181210T190000
DTSTAMP:20260423T080115
CREATED:20171031T153539Z
LAST-MODIFIED:20171031T154247Z
UID:2949-1544468400-1544468400@www.iuoe139.org
SUMMARY:Sturtevant Christmas Meeting
DESCRIPTION:
URL:https://www.iuoe139.org/event/sturtevant-christmas-meeting-3/
LOCATION:Fountain Banquet Hall\, 8505 Durand Avenue\, Sturtevant\, WI\, 53177\, United States
CATEGORIES:Christmas Meeting,Member Events
END:VEVENT
BEGIN:VEVENT
DTSTART;TZID=America/Chicago:20181207T190000
DTEND;TZID=America/Chicago:20181207T190000
DTSTAMP:20260423T080115
CREATED:20171031T153520Z
LAST-MODIFIED:20171031T154330Z
UID:2908-1544209200-1544209200@www.iuoe139.org
SUMMARY:Manitowoc Christmas Meeting
DESCRIPTION:
URL:https://www.iuoe139.org/event/manitowoc-christmas-meeting-3/
LOCATION:Knox’s Silver Valley Bar and Banquet Hall\, 1222 S Alverno Road\, Manitowoc\, WI\, 54220\, United States
CATEGORIES:Christmas Meeting,Member Events
END:VEVENT
BEGIN:VEVENT
DTSTART;TZID=America/Chicago:20181206T190000
DTEND;TZID=America/Chicago:20181206T190000
DTSTAMP:20260423T080115
CREATED:20171031T153457Z
LAST-MODIFIED:20181109T163454Z
UID:2867-1544122800-1544122800@www.iuoe139.org
SUMMARY:Fond du Lac Christmas Meeting
DESCRIPTION:
URL:https://www.iuoe139.org/event/fond-du-lac-christmas-meeting-3/
LOCATION:Benvenuto’s Italian Grill\, 625 West Rolling Meadows Drive\, Fond du Lac\, WI\, 54937\, United States
CATEGORIES:Christmas Meeting,Member Events
END:VEVENT
BEGIN:VEVENT
DTSTART;TZID=America/Chicago:20181205T190000
DTEND;TZID=America/Chicago:20181205T190000
DTSTAMP:20260423T080115
CREATED:20171031T153529Z
LAST-MODIFIED:20171031T154944Z
UID:2928-1544036400-1544036400@www.iuoe139.org
SUMMARY:Pewaukee Christmas Meeting
DESCRIPTION:
URL:https://www.iuoe139.org/event/pewaukee-christmas-meeting-3/
LOCATION:Sheraton Milwaukee Brookfield Hotel\, 375 S Moorland Road\, Brookfield\, WI\, 53005\, United States
CATEGORIES:Christmas Meeting,Member Events
END:VEVENT
BEGIN:VEVENT
DTSTART;TZID=America/Chicago:20181203T190000
DTEND;TZID=America/Chicago:20181203T190000
DTSTAMP:20260423T080115
CREATED:20171031T153555Z
LAST-MODIFIED:20171031T155121Z
UID:2999-1543863600-1543863600@www.iuoe139.org
SUMMARY:Wausau Christmas Meeting
DESCRIPTION:
URL:https://www.iuoe139.org/event/wausau-christmas-meeting-3/
LOCATION:Holiday Inn Hotel & Suites Wausau-Rothschild\, 1000 Imperial Avenue\, Rothschild\, WI\, 54474\, United States
CATEGORIES:Christmas Meeting,Member Events
END:VEVENT
BEGIN:VEVENT
DTSTART;TZID=America/Chicago:20181202T190000
DTEND;TZID=America/Chicago:20181202T190000
DTSTAMP:20260423T080115
CREATED:20171031T153434Z
LAST-MODIFIED:20171031T155159Z
UID:2800-1543777200-1543777200@www.iuoe139.org
SUMMARY:Antigo Christmas Meeting
DESCRIPTION:
URL:https://www.iuoe139.org/event/antigo-christmas-meeting-3/
LOCATION:North Star Lanes\, 400 Prosser Place\, Antigo\, WI\, 54409\, United States
CATEGORIES:Christmas Meeting,Member Events
END:VEVENT
BEGIN:VEVENT
DTSTART;TZID=America/Chicago:20181201T190000
DTEND;TZID=America/Chicago:20181201T190000
DTSTAMP:20260423T080115
CREATED:20171031T153504Z
LAST-MODIFIED:20171031T155236Z
UID:2878-1543690800-1543690800@www.iuoe139.org
SUMMARY:Iron River Christmas Meeting
DESCRIPTION:
URL:https://www.iuoe139.org/event/iron-river-christmas-meeting-3/
LOCATION:Iron River Community Center\, 8275 East Mill Street\, Iron River\, WI\, 54847\, United States
CATEGORIES:Christmas Meeting,Member Events
END:VEVENT
END:VCALENDAR