BEGIN:VCALENDAR
VERSION:2.0
PRODID:-//IUOE Local 139 - ECPv6.15.18//NONSGML v1.0//EN
CALSCALE:GREGORIAN
METHOD:PUBLISH
X-WR-CALNAME:IUOE Local 139
X-ORIGINAL-URL:https://www.iuoe139.org
X-WR-CALDESC:Events for IUOE Local 139
REFRESH-INTERVAL;VALUE=DURATION:PT1H
X-Robots-Tag:noindex
X-PUBLISHED-TTL:PT1H
BEGIN:VTIMEZONE
TZID:America/Chicago
BEGIN:DAYLIGHT
TZOFFSETFROM:-0600
TZOFFSETTO:-0500
TZNAME:CDT
DTSTART:20170312T080000
END:DAYLIGHT
BEGIN:STANDARD
TZOFFSETFROM:-0500
TZOFFSETTO:-0600
TZNAME:CST
DTSTART:20171105T070000
END:STANDARD
BEGIN:DAYLIGHT
TZOFFSETFROM:-0600
TZOFFSETTO:-0500
TZNAME:CDT
DTSTART:20180311T080000
END:DAYLIGHT
BEGIN:STANDARD
TZOFFSETFROM:-0500
TZOFFSETTO:-0600
TZNAME:CST
DTSTART:20181104T070000
END:STANDARD
BEGIN:DAYLIGHT
TZOFFSETFROM:-0600
TZOFFSETTO:-0500
TZNAME:CDT
DTSTART:20190310T080000
END:DAYLIGHT
BEGIN:STANDARD
TZOFFSETFROM:-0500
TZOFFSETTO:-0600
TZNAME:CST
DTSTART:20191103T070000
END:STANDARD
END:VTIMEZONE
BEGIN:VEVENT
DTSTART;TZID=America/Chicago:20180501T190000
DTEND;TZID=America/Chicago:20180501T210000
DTSTAMP:20260425T162814
CREATED:20171031T153448Z
LAST-MODIFIED:20180222T214427Z
UID:2843-1525201200-1525208400@www.iuoe139.org
SUMMARY:District D Meeting - Appleton
DESCRIPTION:
URL:https://www.iuoe139.org/event/district-d-meeting-appleton-10/
LOCATION:Appleton Union Hall\, 5191 Abitz Road\, Appleton\, WI\, 54914\, United States
CATEGORIES:District Meeting
END:VEVENT
BEGIN:VEVENT
DTSTART;TZID=America/Chicago:20180503T190000
DTEND;TZID=America/Chicago:20180503T210000
DTSTAMP:20260425T162814
CREATED:20171031T153447Z
LAST-MODIFIED:20180222T214228Z
UID:2837-1525374000-1525381200@www.iuoe139.org
SUMMARY:District C Meeting - Altoona
DESCRIPTION:
URL:https://www.iuoe139.org/event/district-c-meeting-altoona-11/
LOCATION:Altoona Union Hall\, 1003 South Hillcrest Parkway\, Altoona\, WI\, 54720\, United States
CATEGORIES:District Meeting
END:VEVENT
BEGIN:VEVENT
DTSTART;TZID=America/Chicago:20180507T190000
DTEND;TZID=America/Chicago:20180507T210000
DTSTAMP:20260425T162814
CREATED:20171031T153443Z
LAST-MODIFIED:20180222T214040Z
UID:2830-1525719600-1525726800@www.iuoe139.org
SUMMARY:District B Meeting - Madison
DESCRIPTION:
URL:https://www.iuoe139.org/event/district-b-meeting-madison-11/
LOCATION:Madison Union Hall\, 4702 Biltmore Lane\, Madison\, WI\, 53718\, United States
CATEGORIES:District Meeting
END:VEVENT
BEGIN:VEVENT
DTSTART;TZID=America/Chicago:20180509T190000
DTEND;TZID=America/Chicago:20180509T210000
DTSTAMP:20260425T162814
CREATED:20171031T153441Z
LAST-MODIFIED:20180222T213821Z
UID:2822-1525892400-1525899600@www.iuoe139.org
SUMMARY:District A Meeting - Pewaukee
DESCRIPTION:
URL:https://www.iuoe139.org/event/district-a-meeting-pewaukee-11/
LOCATION:Pewaukee Union Hall\, N27W23233 Roundy Drive\, Pewaukee\, WI\, 53072\, United States
CATEGORIES:District Meeting
END:VEVENT
END:VCALENDAR