BEGIN:VCALENDAR
VERSION:2.0
PRODID:-//IUOE Local 139 - ECPv6.15.18//NONSGML v1.0//EN
CALSCALE:GREGORIAN
METHOD:PUBLISH
X-ORIGINAL-URL:https://www.iuoe139.org
X-WR-CALDESC:Events for IUOE Local 139
REFRESH-INTERVAL;VALUE=DURATION:PT1H
X-Robots-Tag:noindex
X-PUBLISHED-TTL:PT1H
BEGIN:VTIMEZONE
TZID:America/Chicago
BEGIN:DAYLIGHT
TZOFFSETFROM:-0600
TZOFFSETTO:-0500
TZNAME:CDT
DTSTART:20180311T080000
END:DAYLIGHT
BEGIN:STANDARD
TZOFFSETFROM:-0500
TZOFFSETTO:-0600
TZNAME:CST
DTSTART:20181104T070000
END:STANDARD
BEGIN:DAYLIGHT
TZOFFSETFROM:-0600
TZOFFSETTO:-0500
TZNAME:CDT
DTSTART:20190310T080000
END:DAYLIGHT
BEGIN:STANDARD
TZOFFSETFROM:-0500
TZOFFSETTO:-0600
TZNAME:CST
DTSTART:20191103T070000
END:STANDARD
BEGIN:DAYLIGHT
TZOFFSETFROM:-0600
TZOFFSETTO:-0500
TZNAME:CDT
DTSTART:20200308T080000
END:DAYLIGHT
BEGIN:STANDARD
TZOFFSETFROM:-0500
TZOFFSETTO:-0600
TZNAME:CST
DTSTART:20201101T070000
END:STANDARD
END:VTIMEZONE
BEGIN:VEVENT
DTSTART;TZID=America/Chicago:20190904T190000
DTEND;TZID=America/Chicago:20190904T200000
DTSTAMP:20260423T224516
CREATED:20190117T223210Z
LAST-MODIFIED:20190903T211353Z
UID:4874-1567623600-1567627200@www.iuoe139.org
SUMMARY:District B Meeting - Madison
DESCRIPTION:Special Called Meeting \nFor the third time in our Union’s 117 year history\, the current slate of Local 139 Officers is unchallenged for this election cycle. To commemorate the event\, IUOE General President James T. Callahan will be present to install the officers and administer the oath of office. Also\, present for this event will be Congressman Mark Pocan. The meeting will begin at 7:00 p.m. and aside from brief remarks\, no other business shall be conducted. Let’s pack the Madison Hall and let our General President know why we say: 139 PROUD! \nFood and beverages will be served after the ceremony. \nFraternally\, \nTerry McGowan\nPresident/Business Manager\, IUOE 139\nIUOE General Vice President
URL:https://www.iuoe139.org/event/district-b-meeting-madison-6/
LOCATION:Madison Union Hall\, 4702 Biltmore Lane\, Madison\, WI\, 53718\, United States
CATEGORIES:District Meeting
END:VEVENT
END:VCALENDAR