BEGIN:VCALENDAR
VERSION:2.0
PRODID:-//IUOE Local 139 - ECPv6.15.18//NONSGML v1.0//EN
CALSCALE:GREGORIAN
METHOD:PUBLISH
X-WR-CALNAME:IUOE Local 139
X-ORIGINAL-URL:https://www.iuoe139.org
X-WR-CALDESC:Events for IUOE Local 139
REFRESH-INTERVAL;VALUE=DURATION:PT1H
X-Robots-Tag:noindex
X-PUBLISHED-TTL:PT1H
BEGIN:VTIMEZONE
TZID:UTC
BEGIN:STANDARD
TZOFFSETFROM:+0000
TZOFFSETTO:+0000
TZNAME:UTC
DTSTART:20240101T000000
END:STANDARD
END:VTIMEZONE
BEGIN:VEVENT
DTSTART;TZID=UTC:20250903T190000
DTEND;TZID=UTC:20250903T200000
DTSTAMP:20260419T190027
CREATED:20250829T201304Z
LAST-MODIFIED:20250829T201502Z
UID:15239-1756926000-1756929600@www.iuoe139.org
SUMMARY:Special Called Meeting – Installation of Officers\, Sept. 3
DESCRIPTION:APPLETON UNION HALL | WED\, SEPT 3\, 2025 | 7:00 PM\n\n\n \nWe would like to thank the membership of Local 139 for showing their confidence in our team by allowing us to serve you through eight elections. To commemorate the event\, IUOE General President John L. Downey and IUOE General Secretary-Treasurer James M. Sweeney will be present to install the officers and administer the oath of office. The meeting will begin at 7:00 p.m.\, and aside from brief remarks\, no other business shall be conducted. Let’s pack our Appleton Hall and show the two highest-ranking officers of the IUOE why we say 139 PROUD! Food and beverages will be served after the ceremony. \n\n\n \nFraternally\, Terry McGowan President/Business Manager\, IUOE 139 IUOE General Vice President \n\n\n \n \n\n\n \nAPPLETON UNION HALL WEDNESDAY\, SEPTEMBER 3\, 7:00 PM 5191 Abitz Road Appleton\, WI 54914 \n\n\n \nNOTE: The regularly scheduled Appleton meeting on September 2 is canceled because of this special called meeting. Subdistrict meetings on September 3 in Ashland and Green Bay are also canceled.
URL:https://www.iuoe139.org/event/special-called-meeting-installation-of-officers-sept-3/
LOCATION:Appleton Union Hall\, 5191 Abitz Road\, Appleton\, WI\, 54914\, United States
CATEGORIES:Member Events
ATTACH;FMTTYPE=image/jpeg:https://www.iuoe139.org/wp-content/uploads/2022/08/Local139Logo-16-9-1920x1080-1.jpg
END:VEVENT
END:VCALENDAR