BEGIN:VCALENDAR
VERSION:2.0
PRODID:-//IUOE Local 139 - ECPv6.15.18//NONSGML v1.0//EN
CALSCALE:GREGORIAN
METHOD:PUBLISH
X-WR-CALNAME:IUOE Local 139
X-ORIGINAL-URL:https://www.iuoe139.org
X-WR-CALDESC:Events for IUOE Local 139
REFRESH-INTERVAL;VALUE=DURATION:PT1H
X-Robots-Tag:noindex
X-PUBLISHED-TTL:PT1H
BEGIN:VTIMEZONE
TZID:America/Chicago
BEGIN:DAYLIGHT
TZOFFSETFROM:-0600
TZOFFSETTO:-0500
TZNAME:CDT
DTSTART:20190310T080000
END:DAYLIGHT
BEGIN:STANDARD
TZOFFSETFROM:-0500
TZOFFSETTO:-0600
TZNAME:CST
DTSTART:20191103T070000
END:STANDARD
BEGIN:DAYLIGHT
TZOFFSETFROM:-0600
TZOFFSETTO:-0500
TZNAME:CDT
DTSTART:20200308T080000
END:DAYLIGHT
BEGIN:STANDARD
TZOFFSETFROM:-0500
TZOFFSETTO:-0600
TZNAME:CST
DTSTART:20201101T070000
END:STANDARD
BEGIN:DAYLIGHT
TZOFFSETFROM:-0600
TZOFFSETTO:-0500
TZNAME:CDT
DTSTART:20210314T080000
END:DAYLIGHT
BEGIN:STANDARD
TZOFFSETFROM:-0500
TZOFFSETTO:-0600
TZNAME:CST
DTSTART:20211107T070000
END:STANDARD
BEGIN:DAYLIGHT
TZOFFSETFROM:-0600
TZOFFSETTO:-0500
TZNAME:CDT
DTSTART:20220313T080000
END:DAYLIGHT
BEGIN:STANDARD
TZOFFSETFROM:-0500
TZOFFSETTO:-0600
TZNAME:CST
DTSTART:20221106T070000
END:STANDARD
END:VTIMEZONE
BEGIN:VTIMEZONE
TZID:America/Chicago
BEGIN:DAYLIGHT
TZOFFSETFROM:-0600
TZOFFSETTO:-0500
TZNAME:CDT
DTSTART:20170312T080000
END:DAYLIGHT
BEGIN:STANDARD
TZOFFSETFROM:-0500
TZOFFSETTO:-0600
TZNAME:CST
DTSTART:20171105T070000
END:STANDARD
BEGIN:DAYLIGHT
TZOFFSETFROM:-0600
TZOFFSETTO:-0500
TZNAME:CDT
DTSTART:20180311T080000
END:DAYLIGHT
BEGIN:STANDARD
TZOFFSETFROM:-0500
TZOFFSETTO:-0600
TZNAME:CST
DTSTART:20181104T070000
END:STANDARD
BEGIN:DAYLIGHT
TZOFFSETFROM:-0600
TZOFFSETTO:-0500
TZNAME:CDT
DTSTART:20190310T080000
END:DAYLIGHT
BEGIN:STANDARD
TZOFFSETFROM:-0500
TZOFFSETTO:-0600
TZNAME:CST
DTSTART:20191103T070000
END:STANDARD
END:VTIMEZONE
BEGIN:VTIMEZONE
TZID:UTC
BEGIN:STANDARD
TZOFFSETFROM:+0000
TZOFFSETTO:+0000
TZNAME:UTC
DTSTART:20170101T000000
END:STANDARD
END:VTIMEZONE
BEGIN:VEVENT
DTSTART;TZID=America/Chicago:20210503T190000
DTEND;TZID=America/Chicago:20210503T190000
DTSTAMP:20260420T175237
CREATED:20210112T185438Z
LAST-MODIFIED:20210422T172834Z
UID:8201-1620068400-1620068400@www.iuoe139.org
SUMMARY:District B Meeting - Madison
DESCRIPTION:Join us for union updates\, new member swear in\, project news\, raffle\, and more. \nMadison Union Hall\n4702 South Biltmore Lane\nMadison\, WI 53718 \nFace coverings and social distancing are required when not seated.
URL:https://www.iuoe139.org/event/district-b-meeting-madison-24/
LOCATION:Madison Union Hall\, 4702 Biltmore Lane\, Madison\, WI\, 53718\, United States
CATEGORIES:District Meeting,Member Events
ORGANIZER;CN="Local 139":MAILTO:http://www.iuoe139.org/
END:VEVENT
BEGIN:VEVENT
DTSTART;TZID=America/Chicago:20210201T173000
DTEND;TZID=America/Chicago:20210201T173000
DTSTAMP:20260420T175237
CREATED:20210112T185404Z
LAST-MODIFIED:20210131T234714Z
UID:8168-1612200600-1612200600@www.iuoe139.org
SUMMARY:[CANCELED] American Legion Post 139 Meeting - Madison
DESCRIPTION:[CANCELED]\nCanceled until further notice. \n>> We will keep you updated on any changes that affect our organization\, members\, and industry.
URL:https://www.iuoe139.org/event/american-legion-post-139-meeting-madison-4/
LOCATION:WI
CATEGORIES:American Legion Post 139 Meeting,Member Events,Veterans
END:VEVENT
BEGIN:VEVENT
DTSTART;TZID=America/Chicago:20200627T090000
DTEND;TZID=America/Chicago:20200627T170000
DTSTAMP:20260420T175237
CREATED:20200111T023159Z
LAST-MODIFIED:20200601T011325Z
UID:6682-1593248400-1593277200@www.iuoe139.org
SUMMARY:Local 139 Poker Run - Coloma
DESCRIPTION:Wisconsin Operating Engineers Local 139 is hosting the Third Annual Poker Run with American Legion Post 139 to benefit Hogs for Heroes.\nMotorcyclists interested in a day of food\, fun\, and an enjoyable ride around Waushara\, WI should mark their calendars for Saturday\, June 27. \nThe event starts at 9:00 a.m. at the Local 139 Training Center in Coloma\, with the first bike out at 10:00 a.m. for a poker run that wraps up by 5:00 p.m. followed by food\, entertainment\, and cash prizes. \nRiders can participate for $25 (passengers $15) with the proceeds benefiting Hogs for Heroes\, an organization that provides motorcycles as therapy for returning veterans. We hope you can join us. All motorcycles welcome. \nHogs for Heroes is a non-profit organization dedicated to healing the emotional and physical wounds suffered by Wisconsin Veterans during active duty through the therapeutic benefits of owning and riding a Harley-Davidson motorcycle. Learn more about Hogs for Heroes. \nTo pre-register\, call Becky at (920) 739-6378\nEvent Start 9:00 a.m.: LOCAL 139 TRAINING CENTER\nW11584 State Hwy 21\, Coloma\, WI 54930 \nStop 1: JEANNA’S AMERICAN LEGION BAR\nW3008 State Road 23\, Montello\, WI 53949 \nStop 2: GREEN LAKE AMERICAN LEGION\n518 Water Street\, Post Office Box 448\, Green Lake\, WI 54941 \nStop 3: TWO OAKS NORTH CLUBHOUSE\nW6650 Meadow Lane Ct\, Wautoma WI\, 54982 \nStop 4: TRADING POST BAR\nN3708 WI-152\, Wautoma WI\, 54982 \nStop 5: GOOD OL’ BOYS\nN4183 4th Ave\, Hancock WI\, 54943 \nEvent End 5:00 p.m.: LOCAL 139 TRAINING CENTER\nW11584 State Hwy 21\, Coloma\, WI 54930
URL:https://www.iuoe139.org/event/local-139-poker-run-coloma-2/
LOCATION:Coloma Training Center\, W11584 State Hwy 21\, Coloma\, WI\, 54930\, United States
CATEGORIES:Member Events
END:VEVENT
BEGIN:VEVENT
DTSTART;TZID=America/Chicago:20200620T083000
DTEND;TZID=America/Chicago:20200620T163000
DTSTAMP:20260420T175237
CREATED:20200111T023158Z
LAST-MODIFIED:20200601T010626Z
UID:6681-1592641800-1592670600@www.iuoe139.org
SUMMARY:Local 139 Golf Outing - Waushara Country Club
DESCRIPTION:8th Annual Local 139 Golf Outing\nWaushara Country Club\nN2410 Hillside Drive\, Wautoma \nThe event includes 18-holes with cart\, four-person scramble\, raffles\, and hole-in-one prizes with dinner to follow at the Moose Inn.\n$70 per golfer (space is limited)\n8:30 a.m. registration\n9:30 a.m. shotgun start \nRegister Online\nSecure your spot today:\nhttps://app.eventcaddy.com/events/8th-annual-local-139-golf-outing-84 \nFor More Information\nFor a complete list of rules\, visit www.iuoe139.org/golf.\nQuestions? Contact Nichole at (262) 446-6304 or email. \n 
URL:https://www.iuoe139.org/event/local-139-golf-outing-waushara-country-club-3/
LOCATION:Waushara Country Club\, N2410 Hillside St.\, Wautoma\, WI\, 54982\, United States
CATEGORIES:Member Events
END:VEVENT
BEGIN:VEVENT
DTSTART;TZID=America/Chicago:20181213T190000
DTEND;TZID=America/Chicago:20181213T190000
DTSTAMP:20260420T175237
CREATED:20171031T153505Z
LAST-MODIFIED:20171031T154015Z
UID:2880-1544727600-1544727600@www.iuoe139.org
SUMMARY:La Crosse Christmas Meeting
DESCRIPTION:
URL:https://www.iuoe139.org/event/la-crosse-christmas-meeting-2/
LOCATION:La Crosse Center\, 300 Harborview Plaza\, La Crosse\, WI\, 54601\, United States
CATEGORIES:Christmas Meeting,Member Events
END:VEVENT
BEGIN:VEVENT
DTSTART;TZID=America/Chicago:20181212T190000
DTEND;TZID=America/Chicago:20181212T190000
DTSTAMP:20260420T175237
CREATED:20171031T153439Z
LAST-MODIFIED:20171031T154124Z
UID:2814-1544641200-1544641200@www.iuoe139.org
SUMMARY:Boscobel Christmas Meeting
DESCRIPTION:
URL:https://www.iuoe139.org/event/boscobel-christmas-meeting-3/
LOCATION:Boscobel Bowling & Banquet LLC\, 16971 US-61\, Boscobel\, WI\, 53805\, United States
CATEGORIES:Christmas Meeting,Member Events
END:VEVENT
BEGIN:VEVENT
DTSTART;TZID=America/Chicago:20181211T190000
DTEND;TZID=America/Chicago:20181211T190000
DTSTAMP:20260420T175237
CREATED:20171031T153505Z
LAST-MODIFIED:20171031T154207Z
UID:2879-1544554800-1544554800@www.iuoe139.org
SUMMARY:Janesville Christmas Meeting
DESCRIPTION:
URL:https://www.iuoe139.org/event/janesville-christmas-meeting-3/
LOCATION:Holiday Inn Express Janesville\, 3100 Wellington Place\, Janesville\, WI\, 53546\, United States
CATEGORIES:Christmas Meeting,Member Events
END:VEVENT
BEGIN:VEVENT
DTSTART;TZID=America/Chicago:20181210T190000
DTEND;TZID=America/Chicago:20181210T190000
DTSTAMP:20260420T175237
CREATED:20171031T153539Z
LAST-MODIFIED:20171031T154247Z
UID:2949-1544468400-1544468400@www.iuoe139.org
SUMMARY:Sturtevant Christmas Meeting
DESCRIPTION:
URL:https://www.iuoe139.org/event/sturtevant-christmas-meeting-3/
LOCATION:Fountain Banquet Hall\, 8505 Durand Avenue\, Sturtevant\, WI\, 53177\, United States
CATEGORIES:Christmas Meeting,Member Events
END:VEVENT
BEGIN:VEVENT
DTSTART;TZID=America/Chicago:20181207T190000
DTEND;TZID=America/Chicago:20181207T190000
DTSTAMP:20260420T175237
CREATED:20171031T153520Z
LAST-MODIFIED:20171031T154330Z
UID:2908-1544209200-1544209200@www.iuoe139.org
SUMMARY:Manitowoc Christmas Meeting
DESCRIPTION:
URL:https://www.iuoe139.org/event/manitowoc-christmas-meeting-3/
LOCATION:Knox’s Silver Valley Bar and Banquet Hall\, 1222 S Alverno Road\, Manitowoc\, WI\, 54220\, United States
CATEGORIES:Christmas Meeting,Member Events
END:VEVENT
BEGIN:VEVENT
DTSTART;TZID=America/Chicago:20181206T190000
DTEND;TZID=America/Chicago:20181206T190000
DTSTAMP:20260420T175237
CREATED:20171031T153457Z
LAST-MODIFIED:20181109T163454Z
UID:2867-1544122800-1544122800@www.iuoe139.org
SUMMARY:Fond du Lac Christmas Meeting
DESCRIPTION:
URL:https://www.iuoe139.org/event/fond-du-lac-christmas-meeting-3/
LOCATION:Benvenuto’s Italian Grill\, 625 West Rolling Meadows Drive\, Fond du Lac\, WI\, 54937\, United States
CATEGORIES:Christmas Meeting,Member Events
END:VEVENT
BEGIN:VEVENT
DTSTART;TZID=America/Chicago:20181205T190000
DTEND;TZID=America/Chicago:20181205T190000
DTSTAMP:20260420T175237
CREATED:20171031T153529Z
LAST-MODIFIED:20171031T154944Z
UID:2928-1544036400-1544036400@www.iuoe139.org
SUMMARY:Pewaukee Christmas Meeting
DESCRIPTION:
URL:https://www.iuoe139.org/event/pewaukee-christmas-meeting-3/
LOCATION:Sheraton Milwaukee Brookfield Hotel\, 375 S Moorland Road\, Brookfield\, WI\, 53005\, United States
CATEGORIES:Christmas Meeting,Member Events
END:VEVENT
BEGIN:VEVENT
DTSTART;TZID=America/Chicago:20181203T190000
DTEND;TZID=America/Chicago:20181203T190000
DTSTAMP:20260420T175237
CREATED:20171031T153555Z
LAST-MODIFIED:20171031T155121Z
UID:2999-1543863600-1543863600@www.iuoe139.org
SUMMARY:Wausau Christmas Meeting
DESCRIPTION:
URL:https://www.iuoe139.org/event/wausau-christmas-meeting-3/
LOCATION:Holiday Inn Hotel & Suites Wausau-Rothschild\, 1000 Imperial Avenue\, Rothschild\, WI\, 54474\, United States
CATEGORIES:Christmas Meeting,Member Events
END:VEVENT
BEGIN:VEVENT
DTSTART;TZID=America/Chicago:20181202T190000
DTEND;TZID=America/Chicago:20181202T190000
DTSTAMP:20260420T175237
CREATED:20171031T153434Z
LAST-MODIFIED:20171031T155159Z
UID:2800-1543777200-1543777200@www.iuoe139.org
SUMMARY:Antigo Christmas Meeting
DESCRIPTION:
URL:https://www.iuoe139.org/event/antigo-christmas-meeting-3/
LOCATION:North Star Lanes\, 400 Prosser Place\, Antigo\, WI\, 54409\, United States
CATEGORIES:Christmas Meeting,Member Events
END:VEVENT
BEGIN:VEVENT
DTSTART;TZID=America/Chicago:20181201T190000
DTEND;TZID=America/Chicago:20181201T190000
DTSTAMP:20260420T175237
CREATED:20171031T153504Z
LAST-MODIFIED:20171031T155236Z
UID:2878-1543690800-1543690800@www.iuoe139.org
SUMMARY:Iron River Christmas Meeting
DESCRIPTION:
URL:https://www.iuoe139.org/event/iron-river-christmas-meeting-3/
LOCATION:Iron River Community Center\, 8275 East Mill Street\, Iron River\, WI\, 54847\, United States
CATEGORIES:Christmas Meeting,Member Events
END:VEVENT
BEGIN:VEVENT
DTSTART;TZID=America/Chicago:20181130T190000
DTEND;TZID=America/Chicago:20181130T190000
DTSTAMP:20260420T175237
CREATED:20171031T153535Z
LAST-MODIFIED:20171031T155418Z
UID:2944-1543604400-1543604400@www.iuoe139.org
SUMMARY:Rice Lake Christmas Meeting
DESCRIPTION:
URL:https://www.iuoe139.org/event/rice-lake-christmas-meeting-3/
LOCATION:Moose Lodge 402\, 40 E Newton Street\, Rice Lake\, WI\, 54868\, United States
CATEGORIES:Christmas Meeting,Member Events
END:VEVENT
BEGIN:VEVENT
DTSTART;TZID=America/Chicago:20181128T190000
DTEND;TZID=America/Chicago:20181128T190000
DTSTAMP:20260420T175237
CREATED:20171031T153500Z
LAST-MODIFIED:20171031T155553Z
UID:2873-1543431600-1543431600@www.iuoe139.org
SUMMARY:Green Bay Christmas Meeting
DESCRIPTION:
URL:https://www.iuoe139.org/event/green-bay-christmas-meeting-3/
LOCATION:Rock Garden\, 1951 Bond Street\, Green Bay\, WI\, 54303\, United States
CATEGORIES:Christmas Meeting,Member Events
END:VEVENT
BEGIN:VEVENT
DTSTART;TZID=America/Chicago:20181127T190000
DTEND;TZID=America/Chicago:20181127T190000
DTSTAMP:20260420T175238
CREATED:20171031T153436Z
LAST-MODIFIED:20171031T155709Z
UID:2801-1543345200-1543345200@www.iuoe139.org
SUMMARY:Appleton Christmas Meeting
DESCRIPTION:
URL:https://www.iuoe139.org/event/appleton-christmas-meeting-3/
LOCATION:The Darboy Club\, N9695 County Rd N\, Appleton\, WI\, 54915\, United States
CATEGORIES:Christmas Meeting,Member Events
END:VEVENT
BEGIN:VEVENT
DTSTART;TZID=America/Chicago:20181126T190000
DTEND;TZID=America/Chicago:20181126T190000
DTSTAMP:20260420T175238
CREATED:20171031T153516Z
LAST-MODIFIED:20171031T155746Z
UID:2895-1543258800-1543258800@www.iuoe139.org
SUMMARY:Madison Christmas Meeting
DESCRIPTION:
URL:https://www.iuoe139.org/event/madison-christmas-meeting-3/
LOCATION:Madison Marriott West\, 1313 John Q Hammons Drive\, Middleton\, WI\, 53562\, United States
CATEGORIES:Christmas Meeting,Member Events
END:VEVENT
BEGIN:VEVENT
DTSTART;TZID=America/Chicago:20181106T173000
DTEND;TZID=America/Chicago:20181106T173000
DTSTAMP:20260420T175238
CREATED:20171031T153434Z
LAST-MODIFIED:20171031T160045Z
UID:2798-1541525400-1541525400@www.iuoe139.org
SUMMARY:American Legion Post 139 Meeting - Appleton
DESCRIPTION:
URL:https://www.iuoe139.org/event/american-legion-post-139-meeting-appleton/
LOCATION:Appleton Union Hall\, 5191 Abitz Road\, Appleton\, WI\, 54914\, United States
CATEGORIES:American Legion Post 139 Meeting,Member Events,Veterans
END:VEVENT
BEGIN:VEVENT
DTSTART;TZID=America/Chicago:20180802T173000
DTEND;TZID=America/Chicago:20180802T173000
DTSTAMP:20260420T175238
CREATED:20171031T153433Z
LAST-MODIFIED:20171031T155948Z
UID:2797-1533231000-1533231000@www.iuoe139.org
SUMMARY:American Legion Post 139 Meeting - Altoona
DESCRIPTION:
URL:https://www.iuoe139.org/event/american-legion-post-139-meeting-altoona-2/
LOCATION:Altoona Union Hall\, 1003 South Hillcrest Parkway\, Altoona\, WI\, 54720\, United States
CATEGORIES:Member Events,Veterans
END:VEVENT
BEGIN:VEVENT
DTSTART;VALUE=DATE:20180721
DTEND;VALUE=DATE:20180722
DTSTAMP:20260420T175238
CREATED:20171031T153516Z
LAST-MODIFIED:20180321T143425Z
UID:2894-1532131200-1532217599@www.iuoe139.org
SUMMARY:Local 139 Picnic - Coloma
DESCRIPTION:
URL:https://www.iuoe139.org/event/local-139-picnic-coloma/
LOCATION:Coloma Training Center\, W11584 State Hwy 21\, Coloma\, WI\, 54930\, United States
CATEGORIES:Family Event,Member Events
END:VEVENT
BEGIN:VEVENT
DTSTART;TZID=UTC:20180623T090000
DTEND;TZID=UTC:20180623T200000
DTSTAMP:20260420T175238
CREATED:20180315T161323Z
LAST-MODIFIED:20180315T161323Z
UID:3652-1529744400-1529784000@www.iuoe139.org
SUMMARY:Waushara County Poker Run 2018
DESCRIPTION:Waushara County Poker Run 2018
URL:https://www.iuoe139.org/event/waushara-county-poker-run-2018/
LOCATION:Coloma Training Center\, W11584 State Hwy 21\, Coloma\, WI\, 54930\, United States
CATEGORIES:American Legion Post 139 Meeting,Family Event,Member Events,Veterans
END:VEVENT
BEGIN:VEVENT
DTSTART;TZID=America/Chicago:20180616T083000
DTEND;TZID=America/Chicago:20180616T180000
DTSTAMP:20260420T175238
CREATED:20171031T153516Z
LAST-MODIFIED:20180607T215241Z
UID:2893-1529137800-1529172000@www.iuoe139.org
SUMMARY:Local 139 Golf Outing - Waushara Country Club
DESCRIPTION:The golf outing includes 18-hole foursomes with shotgun start\, raffles and hole-in-one prizes with dinner to follow at the Moose Inn. \nTo register\, please contact Nichole via email or phone:\nEmail Nichole   |   Call Nichole (262) 446-6304
URL:https://www.iuoe139.org/event/local-139-golf-outing-waushara-country-club/
LOCATION:Waushara Country Club\, N2410 Hillside St.\, Wautoma\, WI\, 54982\, United States
CATEGORIES:Member Events
END:VEVENT
BEGIN:VEVENT
DTSTART;TZID=America/Chicago:20180509T173000
DTEND;TZID=America/Chicago:20180509T173000
DTSTAMP:20260420T175238
CREATED:20171031T153433Z
LAST-MODIFIED:20171031T160205Z
UID:2796-1525887000-1525887000@www.iuoe139.org
SUMMARY:American Legion Post 139 Meeting - Pewaukee
DESCRIPTION:
URL:https://www.iuoe139.org/event/american-legion-post-139-meeting-pewaukee-2/
LOCATION:Pewaukee Union Hall\, N27W23233 Roundy Drive\, Pewaukee\, WI\, 53072\, United States
CATEGORIES:American Legion Post 139 Meeting,Member Events,Veterans
END:VEVENT
BEGIN:VEVENT
DTSTART;TZID=UTC:20180426T160000
DTEND;TZID=UTC:20180426T173000
DTSTAMP:20260420T175238
CREATED:20180423T170352Z
LAST-MODIFIED:20180423T170352Z
UID:3831-1524758400-1524763800@www.iuoe139.org
SUMMARY:4th Annual Construction Workers' 2018 Memorial
DESCRIPTION:Local 139 would like to encourage members to attend the Construction Workers Memorial on April 26th. Sadly we lost one of our own this past year\, dearly departed Brother Charles Leibfried. Please join us in paying tribute to Brother Leibfried and others who have lost their lives on a construction site in the past year.
URL:https://www.iuoe139.org/event/4th-annual-construction-workers-2018-memorial/
LOCATION:St. Patrick’s Church\, 404 East Main Street\, Madison\, WI\, 53703\, United States
CATEGORIES:Member Events
END:VEVENT
BEGIN:VEVENT
DTSTART;TZID=America/Chicago:20180205T173000
DTEND;TZID=America/Chicago:20180205T173000
DTSTAMP:20260420T175238
CREATED:20171031T153434Z
LAST-MODIFIED:20171031T160118Z
UID:2799-1517851800-1517851800@www.iuoe139.org
SUMMARY:American Legion Post 139 Meeting - Madison
DESCRIPTION:
URL:https://www.iuoe139.org/event/american-legion-post-139-meeting-madison-2/
LOCATION:Madison Union Hall\, 4702 Biltmore Lane\, Madison\, WI\, 53718\, United States
CATEGORIES:American Legion Post 139 Meeting,Member Events,Veterans
END:VEVENT
END:VCALENDAR