BEGIN:VCALENDAR
VERSION:2.0
PRODID:-//IUOE Local 139 - ECPv6.15.18//NONSGML v1.0//EN
CALSCALE:GREGORIAN
METHOD:PUBLISH
X-WR-CALNAME:IUOE Local 139
X-ORIGINAL-URL:https://www.iuoe139.org
X-WR-CALDESC:Events for IUOE Local 139
REFRESH-INTERVAL;VALUE=DURATION:PT1H
X-Robots-Tag:noindex
X-PUBLISHED-TTL:PT1H
BEGIN:VTIMEZONE
TZID:America/Chicago
BEGIN:DAYLIGHT
TZOFFSETFROM:-0600
TZOFFSETTO:-0500
TZNAME:CDT
DTSTART:20210314T080000
END:DAYLIGHT
BEGIN:STANDARD
TZOFFSETFROM:-0500
TZOFFSETTO:-0600
TZNAME:CST
DTSTART:20211107T070000
END:STANDARD
BEGIN:DAYLIGHT
TZOFFSETFROM:-0600
TZOFFSETTO:-0500
TZNAME:CDT
DTSTART:20220313T080000
END:DAYLIGHT
BEGIN:STANDARD
TZOFFSETFROM:-0500
TZOFFSETTO:-0600
TZNAME:CST
DTSTART:20221106T070000
END:STANDARD
BEGIN:DAYLIGHT
TZOFFSETFROM:-0600
TZOFFSETTO:-0500
TZNAME:CDT
DTSTART:20230312T080000
END:DAYLIGHT
BEGIN:STANDARD
TZOFFSETFROM:-0500
TZOFFSETTO:-0600
TZNAME:CST
DTSTART:20231105T070000
END:STANDARD
END:VTIMEZONE
BEGIN:VEVENT
DTSTART;TZID=America/Chicago:20220503T190000
DTEND;TZID=America/Chicago:20220503T190000
DTSTAMP:20260423T025943
CREATED:20220104T150700Z
LAST-MODIFIED:20220104T163100Z
UID:10275-1651604400-1651604400@www.iuoe139.org
SUMMARY:Subdistrict Meeting - Superior
DESCRIPTION:
URL:https://www.iuoe139.org/event/subdistrict-meeting-superior-32/
CATEGORIES:Subdistrict Meeting
END:VEVENT
BEGIN:VEVENT
DTSTART;TZID=America/Chicago:20220504T190000
DTEND;TZID=America/Chicago:20220504T190000
DTSTAMP:20260423T025943
CREATED:20220104T150408Z
LAST-MODIFIED:20220104T162915Z
UID:10240-1651690800-1651690800@www.iuoe139.org
SUMMARY:Subdistrict Meeting - Ashland
DESCRIPTION:
URL:https://www.iuoe139.org/event/subdistrict-meeting-ashland-31/
CATEGORIES:Subdistrict Meeting
END:VEVENT
BEGIN:VEVENT
DTSTART;TZID=America/Chicago:20220504T190000
DTEND;TZID=America/Chicago:20220504T190000
DTSTAMP:20260423T025943
CREATED:20220104T150542Z
LAST-MODIFIED:20220104T162944Z
UID:10247-1651690800-1651690800@www.iuoe139.org
SUMMARY:Subdistrict Meeting - Green Bay
DESCRIPTION:
URL:https://www.iuoe139.org/event/subdistrict-meeting-green-bay-30/
CATEGORIES:Subdistrict Meeting
END:VEVENT
BEGIN:VEVENT
DTSTART;TZID=America/Chicago:20220509T190000
DTEND;TZID=America/Chicago:20220509T190000
DTSTAMP:20260423T025943
CREATED:20220104T150643Z
LAST-MODIFIED:20220104T163044Z
UID:10268-1652122800-1652122800@www.iuoe139.org
SUMMARY:Subdistrict Meeting - Manitowoc
DESCRIPTION:
URL:https://www.iuoe139.org/event/subdistrict-meeting-manitowoc-31/
CATEGORIES:Subdistrict Meeting
END:VEVENT
BEGIN:VEVENT
DTSTART;TZID=America/Chicago:20220516T190000
DTEND;TZID=America/Chicago:20220516T190000
DTSTAMP:20260423T025943
CREATED:20220104T150559Z
LAST-MODIFIED:20220104T163000Z
UID:10254-1652727600-1652727600@www.iuoe139.org
SUMMARY:Subdistrict Meeting - Kenosha
DESCRIPTION:
URL:https://www.iuoe139.org/event/subdistrict-meeting-kenosha-30/
CATEGORIES:Subdistrict Meeting
END:VEVENT
BEGIN:VEVENT
DTSTART;TZID=America/Chicago:20220519T190000
DTEND;TZID=America/Chicago:20220519T190000
DTSTAMP:20260423T025943
CREATED:20220104T150626Z
LAST-MODIFIED:20220104T163029Z
UID:10261-1652986800-1652986800@www.iuoe139.org
SUMMARY:Subdistrict Meeting - La Crosse
DESCRIPTION:
URL:https://www.iuoe139.org/event/subdistrict-meeting-la-crosse-31/
CATEGORIES:Subdistrict Meeting
END:VEVENT
END:VCALENDAR