BEGIN:VCALENDAR
VERSION:2.0
PRODID:-//IUOE Local 139 - ECPv6.15.18//NONSGML v1.0//EN
CALSCALE:GREGORIAN
METHOD:PUBLISH
X-ORIGINAL-URL:https://www.iuoe139.org
X-WR-CALDESC:Events for IUOE Local 139
REFRESH-INTERVAL;VALUE=DURATION:PT1H
X-Robots-Tag:noindex
X-PUBLISHED-TTL:PT1H
BEGIN:VTIMEZONE
TZID:America/Chicago
BEGIN:DAYLIGHT
TZOFFSETFROM:-0600
TZOFFSETTO:-0500
TZNAME:CDT
DTSTART:20210314T080000
END:DAYLIGHT
BEGIN:STANDARD
TZOFFSETFROM:-0500
TZOFFSETTO:-0600
TZNAME:CST
DTSTART:20211107T070000
END:STANDARD
BEGIN:DAYLIGHT
TZOFFSETFROM:-0600
TZOFFSETTO:-0500
TZNAME:CDT
DTSTART:20220313T080000
END:DAYLIGHT
BEGIN:STANDARD
TZOFFSETFROM:-0500
TZOFFSETTO:-0600
TZNAME:CST
DTSTART:20221106T070000
END:STANDARD
BEGIN:DAYLIGHT
TZOFFSETFROM:-0600
TZOFFSETTO:-0500
TZNAME:CDT
DTSTART:20230312T080000
END:DAYLIGHT
BEGIN:STANDARD
TZOFFSETFROM:-0500
TZOFFSETTO:-0600
TZNAME:CST
DTSTART:20231105T070000
END:STANDARD
END:VTIMEZONE
BEGIN:VEVENT
DTSTART;TZID=America/Chicago:20220601T190000
DTEND;TZID=America/Chicago:20220601T190000
DTSTAMP:20260423T010635
CREATED:20220104T150420Z
LAST-MODIFIED:20220104T162929Z
UID:10241-1654110000-1654110000@www.iuoe139.org
SUMMARY:Subdistrict Meeting - Ashland
DESCRIPTION:
URL:https://www.iuoe139.org/event/subdistrict-meeting-ashland-32/
CATEGORIES:Subdistrict Meeting
END:VEVENT
BEGIN:VEVENT
DTSTART;TZID=America/Chicago:20220601T190000
DTEND;TZID=America/Chicago:20220601T190000
DTSTAMP:20260423T010635
CREATED:20220104T150543Z
LAST-MODIFIED:20220104T162944Z
UID:10248-1654110000-1654110000@www.iuoe139.org
SUMMARY:Subdistrict Meeting - Green Bay
DESCRIPTION:
URL:https://www.iuoe139.org/event/subdistrict-meeting-green-bay-31/
CATEGORIES:Subdistrict Meeting
END:VEVENT
BEGIN:VEVENT
DTSTART;TZID=America/Chicago:20220607T190000
DTEND;TZID=America/Chicago:20220607T190000
DTSTAMP:20260423T010635
CREATED:20220104T150711Z
LAST-MODIFIED:20220104T163114Z
UID:10276-1654628400-1654628400@www.iuoe139.org
SUMMARY:Subdistrict Meeting - Superior
DESCRIPTION:
URL:https://www.iuoe139.org/event/subdistrict-meeting-superior-33/
CATEGORIES:Subdistrict Meeting
END:VEVENT
BEGIN:VEVENT
DTSTART;TZID=America/Chicago:20220613T190000
DTEND;TZID=America/Chicago:20220613T190000
DTSTAMP:20260423T010635
CREATED:20220104T150644Z
LAST-MODIFIED:20220104T163044Z
UID:10269-1655146800-1655146800@www.iuoe139.org
SUMMARY:Subdistrict Meeting - Manitowoc
DESCRIPTION:
URL:https://www.iuoe139.org/event/subdistrict-meeting-manitowoc-32/
CATEGORIES:Subdistrict Meeting
END:VEVENT
BEGIN:VEVENT
DTSTART;TZID=America/Chicago:20220616T190000
DTEND;TZID=America/Chicago:20220616T190000
DTSTAMP:20260423T010635
CREATED:20220104T150627Z
LAST-MODIFIED:20220104T163029Z
UID:10262-1655406000-1655406000@www.iuoe139.org
SUMMARY:Subdistrict Meeting - La Crosse
DESCRIPTION:
URL:https://www.iuoe139.org/event/subdistrict-meeting-la-crosse-32/
CATEGORIES:Subdistrict Meeting
END:VEVENT
BEGIN:VEVENT
DTSTART;TZID=America/Chicago:20220620T190000
DTEND;TZID=America/Chicago:20220620T190000
DTSTAMP:20260423T010635
CREATED:20220104T150600Z
LAST-MODIFIED:20220104T163000Z
UID:10255-1655751600-1655751600@www.iuoe139.org
SUMMARY:Subdistrict Meeting - Kenosha
DESCRIPTION:
URL:https://www.iuoe139.org/event/subdistrict-meeting-kenosha-31/
CATEGORIES:Subdistrict Meeting
END:VEVENT
END:VCALENDAR