BEGIN:VCALENDAR
VERSION:2.0
PRODID:-//IUOE Local 139 - ECPv6.15.18//NONSGML v1.0//EN
CALSCALE:GREGORIAN
METHOD:PUBLISH
X-WR-CALNAME:IUOE Local 139
X-ORIGINAL-URL:https://www.iuoe139.org
X-WR-CALDESC:Events for IUOE Local 139
REFRESH-INTERVAL;VALUE=DURATION:PT1H
X-Robots-Tag:noindex
X-PUBLISHED-TTL:PT1H
BEGIN:VTIMEZONE
TZID:America/Chicago
BEGIN:DAYLIGHT
TZOFFSETFROM:-0600
TZOFFSETTO:-0500
TZNAME:CDT
DTSTART:20210314T080000
END:DAYLIGHT
BEGIN:STANDARD
TZOFFSETFROM:-0500
TZOFFSETTO:-0600
TZNAME:CST
DTSTART:20211107T070000
END:STANDARD
BEGIN:DAYLIGHT
TZOFFSETFROM:-0600
TZOFFSETTO:-0500
TZNAME:CDT
DTSTART:20220313T080000
END:DAYLIGHT
BEGIN:STANDARD
TZOFFSETFROM:-0500
TZOFFSETTO:-0600
TZNAME:CST
DTSTART:20221106T070000
END:STANDARD
BEGIN:DAYLIGHT
TZOFFSETFROM:-0600
TZOFFSETTO:-0500
TZNAME:CDT
DTSTART:20230312T080000
END:DAYLIGHT
BEGIN:STANDARD
TZOFFSETFROM:-0500
TZOFFSETTO:-0600
TZNAME:CST
DTSTART:20231105T070000
END:STANDARD
END:VTIMEZONE
BEGIN:VEVENT
DTSTART;TZID=America/Chicago:20221101T190000
DTEND;TZID=America/Chicago:20221101T190000
DTSTAMP:20260422T124208
CREATED:20220104T150714Z
LAST-MODIFIED:20220104T163114Z
UID:10279-1667329200-1667329200@www.iuoe139.org
SUMMARY:Subdistrict Meeting - Superior
DESCRIPTION:
URL:https://www.iuoe139.org/event/subdistrict-meeting-superior-36/
CATEGORIES:Subdistrict Meeting
END:VEVENT
BEGIN:VEVENT
DTSTART;TZID=America/Chicago:20221102T190000
DTEND;TZID=America/Chicago:20221102T190000
DTSTAMP:20260422T124208
CREATED:20220104T150422Z
LAST-MODIFIED:20220104T162930Z
UID:10244-1667415600-1667415600@www.iuoe139.org
SUMMARY:Subdistrict Meeting - Ashland
DESCRIPTION:
URL:https://www.iuoe139.org/event/subdistrict-meeting-ashland-35/
CATEGORIES:Subdistrict Meeting
END:VEVENT
BEGIN:VEVENT
DTSTART;TZID=America/Chicago:20221102T190000
DTEND;TZID=America/Chicago:20221102T190000
DTSTAMP:20260422T124208
CREATED:20220104T150556Z
LAST-MODIFIED:20220104T162959Z
UID:10251-1667415600-1667415600@www.iuoe139.org
SUMMARY:Subdistrict Meeting - Green Bay
DESCRIPTION:
URL:https://www.iuoe139.org/event/subdistrict-meeting-green-bay-34/
CATEGORIES:Subdistrict Meeting
END:VEVENT
BEGIN:VEVENT
DTSTART;TZID=America/Chicago:20221114T190000
DTEND;TZID=America/Chicago:20221114T190000
DTSTAMP:20260422T124208
CREATED:20220104T150657Z
LAST-MODIFIED:20220104T163059Z
UID:10272-1668452400-1668452400@www.iuoe139.org
SUMMARY:Subdistrict Meeting - Manitowoc
DESCRIPTION:
URL:https://www.iuoe139.org/event/subdistrict-meeting-manitowoc-35/
CATEGORIES:Subdistrict Meeting
END:VEVENT
BEGIN:VEVENT
DTSTART;TZID=America/Chicago:20221117T190000
DTEND;TZID=America/Chicago:20221117T190000
DTSTAMP:20260422T124208
CREATED:20220104T150630Z
LAST-MODIFIED:20220104T163030Z
UID:10265-1668711600-1668711600@www.iuoe139.org
SUMMARY:Subdistrict Meeting - La Crosse
DESCRIPTION:
URL:https://www.iuoe139.org/event/subdistrict-meeting-la-crosse-35/
CATEGORIES:Subdistrict Meeting
END:VEVENT
BEGIN:VEVENT
DTSTART;TZID=America/Chicago:20221121T190000
DTEND;TZID=America/Chicago:20221121T190000
DTSTAMP:20260422T124208
CREATED:20220104T150613Z
LAST-MODIFIED:20220104T163014Z
UID:10258-1669057200-1669057200@www.iuoe139.org
SUMMARY:Subdistrict Meeting - Kenosha
DESCRIPTION:
URL:https://www.iuoe139.org/event/subdistrict-meeting-kenosha-34/
CATEGORIES:Subdistrict Meeting
END:VEVENT
END:VCALENDAR