BEGIN:VCALENDAR
VERSION:2.0
PRODID:-//IUOE Local 139 - ECPv6.15.18//NONSGML v1.0//EN
CALSCALE:GREGORIAN
METHOD:PUBLISH
X-WR-CALNAME:IUOE Local 139
X-ORIGINAL-URL:https://www.iuoe139.org
X-WR-CALDESC:Events for IUOE Local 139
REFRESH-INTERVAL;VALUE=DURATION:PT1H
X-Robots-Tag:noindex
X-PUBLISHED-TTL:PT1H
BEGIN:VTIMEZONE
TZID:America/Chicago
BEGIN:DAYLIGHT
TZOFFSETFROM:-0600
TZOFFSETTO:-0500
TZNAME:CDT
DTSTART:20220313T080000
END:DAYLIGHT
BEGIN:STANDARD
TZOFFSETFROM:-0500
TZOFFSETTO:-0600
TZNAME:CST
DTSTART:20221106T070000
END:STANDARD
BEGIN:DAYLIGHT
TZOFFSETFROM:-0600
TZOFFSETTO:-0500
TZNAME:CDT
DTSTART:20230312T080000
END:DAYLIGHT
BEGIN:STANDARD
TZOFFSETFROM:-0500
TZOFFSETTO:-0600
TZNAME:CST
DTSTART:20231105T070000
END:STANDARD
BEGIN:DAYLIGHT
TZOFFSETFROM:-0600
TZOFFSETTO:-0500
TZNAME:CDT
DTSTART:20240310T080000
END:DAYLIGHT
BEGIN:STANDARD
TZOFFSETFROM:-0500
TZOFFSETTO:-0600
TZNAME:CST
DTSTART:20241103T070000
END:STANDARD
END:VTIMEZONE
BEGIN:VEVENT
DTSTART;TZID=America/Chicago:20230606T190000
DTEND;TZID=America/Chicago:20230606T190000
DTSTAMP:20260420T072913
CREATED:20230105T220532Z
LAST-MODIFIED:20230105T220532Z
UID:11650-1686078000-1686078000@www.iuoe139.org
SUMMARY:Subdistrict Meeting - Superior
DESCRIPTION:
URL:https://www.iuoe139.org/event/subdistrict-meeting-superior-40/
CATEGORIES:Subdistrict Meeting
END:VEVENT
BEGIN:VEVENT
DTSTART;TZID=America/Chicago:20230607T190000
DTEND;TZID=America/Chicago:20230607T190000
DTSTAMP:20260420T072913
CREATED:20230105T220346Z
LAST-MODIFIED:20230105T220346Z
UID:11615-1686164400-1686164400@www.iuoe139.org
SUMMARY:Subdistrict Meeting - Ashland
DESCRIPTION:
URL:https://www.iuoe139.org/event/subdistrict-meeting-ashland-39/
CATEGORIES:Subdistrict Meeting
END:VEVENT
BEGIN:VEVENT
DTSTART;TZID=America/Chicago:20230607T190000
DTEND;TZID=America/Chicago:20230607T190000
DTSTAMP:20260420T072913
CREATED:20230105T220404Z
LAST-MODIFIED:20230105T220404Z
UID:11622-1686164400-1686164400@www.iuoe139.org
SUMMARY:Subdistrict Meeting - Green Bay
DESCRIPTION:
URL:https://www.iuoe139.org/event/subdistrict-meeting-green-bay-38/
CATEGORIES:Subdistrict Meeting
END:VEVENT
BEGIN:VEVENT
DTSTART;TZID=America/Chicago:20230612T190000
DTEND;TZID=America/Chicago:20230612T190000
DTSTAMP:20260420T072913
CREATED:20230105T220506Z
LAST-MODIFIED:20230105T220506Z
UID:11643-1686596400-1686596400@www.iuoe139.org
SUMMARY:Subdistrict Meeting - Manitowoc
DESCRIPTION:
URL:https://www.iuoe139.org/event/subdistrict-meeting-manitowoc-39/
CATEGORIES:Subdistrict Meeting
END:VEVENT
BEGIN:VEVENT
DTSTART;TZID=America/Chicago:20230615T190000
DTEND;TZID=America/Chicago:20230615T190000
DTSTAMP:20260420T072913
CREATED:20230105T220448Z
LAST-MODIFIED:20230105T220448Z
UID:11636-1686855600-1686855600@www.iuoe139.org
SUMMARY:Subdistrict Meeting - La Crosse
DESCRIPTION:
URL:https://www.iuoe139.org/event/subdistrict-meeting-la-crosse-39/
CATEGORIES:Subdistrict Meeting
END:VEVENT
BEGIN:VEVENT
DTSTART;TZID=America/Chicago:20230619T190000
DTEND;TZID=America/Chicago:20230619T190000
DTSTAMP:20260420T072913
CREATED:20230105T220431Z
LAST-MODIFIED:20230105T220431Z
UID:11629-1687201200-1687201200@www.iuoe139.org
SUMMARY:Subdistrict Meeting - Kenosha
DESCRIPTION:
URL:https://www.iuoe139.org/event/subdistrict-meeting-kenosha-38/
CATEGORIES:Subdistrict Meeting
END:VEVENT
END:VCALENDAR